BEGIN:VCALENDAR
VERSION:2.0
PRODID:-//La Poche - ECPv6.15.20//NONSGML v1.0//EN
CALSCALE:GREGORIAN
METHOD:PUBLISH
X-WR-CALNAME:La Poche
X-ORIGINAL-URL:https://lapoche.ca
X-WR-CALDESC:Events for La Poche
REFRESH-INTERVAL;VALUE=DURATION:PT1H
X-Robots-Tag:noindex
X-PUBLISHED-TTL:PT1H
BEGIN:VTIMEZONE
TZID:UTC
BEGIN:STANDARD
TZOFFSETFROM:+0000
TZOFFSETTO:+0000
TZNAME:UTC
DTSTART:20250101T000000
END:STANDARD
END:VTIMEZONE
BEGIN:VEVENT
DTSTART;TZID=UTC:20260423T073000
DTEND;TZID=UTC:20260423T213000
DTSTAMP:20260423T091452
CREATED:20260330T125521Z
LAST-MODIFIED:20260330T125522Z
UID:756-1776929400-1776979800@lapoche.ca
SUMMARY:Jazz!
DESCRIPTION:Again with the jazz$! Why yes!! Every Thursday!! $15/PWYC
URL:https://lapoche.ca/event/jazz-5/
LOCATION:La Poche\, 40 Quebec Street\, Guelph\, Ontario\, Canada
END:VEVENT
END:VCALENDAR