BEGIN:VCALENDAR
VERSION:2.0
PRODID:-//La Poche - ECPv6.15.20//NONSGML v1.0//EN
CALSCALE:GREGORIAN
METHOD:PUBLISH
X-ORIGINAL-URL:https://lapoche.ca
X-WR-CALDESC:Events for La Poche
REFRESH-INTERVAL;VALUE=DURATION:PT1H
X-Robots-Tag:noindex
X-PUBLISHED-TTL:PT1H
BEGIN:VTIMEZONE
TZID:UTC
BEGIN:STANDARD
TZOFFSETFROM:+0000
TZOFFSETTO:+0000
TZNAME:UTC
DTSTART:20230101T000000
END:STANDARD
END:VTIMEZONE
BEGIN:VEVENT
DTSTART;TZID=UTC:20241009T190000
DTEND;TZID=UTC:20241009T190000
DTSTAMP:20260420T062143
CREATED:20240926T210439Z
LAST-MODIFIED:20240926T210715Z
UID:168-1728500400-1728500400@lapoche.ca
SUMMARY:Traditional French Balfolk Music Jam!
DESCRIPTION:Come and enjoy the sweet folky sounds and songs of Traditional French Country Folk music (Balfolk) \nCome and play along if you play an acoustic melody instrument – Violin\, Mandolin\, Flute\, etc. \nFree
URL:https://lapoche.ca/event/traditional-french-balfolk-music-jam/
LOCATION:La Poche\, 40 Quebec Street\, Guelph\, Ontario\, Canada
END:VEVENT
BEGIN:VEVENT
DTSTART;TZID=UTC:20241017T190000
DTEND;TZID=UTC:20241017T210000
DTSTAMP:20260420T062143
CREATED:20241002T154603Z
LAST-MODIFIED:20241002T154603Z
UID:188-1729191600-1729198800@lapoche.ca
SUMMARY:Gallagher Camacho
DESCRIPTION:Come listen to the sweet acoustic jazz duo Gallagher Camacho at La Poche. \nUpright Bass and Guitar \n$15.00 PWYC at the door.
URL:https://lapoche.ca/event/gallagher-camacho/
LOCATION:La Poche\, 40 Quebec Street\, Guelph\, Ontario\, Canada
END:VEVENT
BEGIN:VEVENT
DTSTART;TZID=UTC:20241026T193000
DTEND;TZID=UTC:20241026T210000
DTSTAMP:20260420T062143
CREATED:20241024T183222Z
LAST-MODIFIED:20241024T183222Z
UID:200-1729971000-1729976400@lapoche.ca
SUMMARY:Rowan Tree
DESCRIPTION:Rowan Tree. Sweet harmonies and lovely tunes. $10.00 PWYC
URL:https://lapoche.ca/event/rowan-tree-2/
LOCATION:Ontario
END:VEVENT
END:VCALENDAR